BEGIN:VCALENDAR
VERSION:2.0
PRODID:-//CPAO14 - ECPv6.15.20//NONSGML v1.0//EN
CALSCALE:GREGORIAN
METHOD:PUBLISH
X-WR-CALNAME:CPAO14
X-ORIGINAL-URL:https://www.cpao14.org
X-WR-CALDESC:Évènements pour CPAO14
REFRESH-INTERVAL;VALUE=DURATION:PT1H
X-Robots-Tag:noindex
X-PUBLISHED-TTL:PT1H
BEGIN:VTIMEZONE
TZID:Europe/Paris
BEGIN:DAYLIGHT
TZOFFSETFROM:+0100
TZOFFSETTO:+0200
TZNAME:CEST
DTSTART:20170326T010000
END:DAYLIGHT
BEGIN:STANDARD
TZOFFSETFROM:+0200
TZOFFSETTO:+0100
TZNAME:CET
DTSTART:20171029T010000
END:STANDARD
BEGIN:DAYLIGHT
TZOFFSETFROM:+0100
TZOFFSETTO:+0200
TZNAME:CEST
DTSTART:20180325T010000
END:DAYLIGHT
BEGIN:STANDARD
TZOFFSETFROM:+0200
TZOFFSETTO:+0100
TZNAME:CET
DTSTART:20181028T010000
END:STANDARD
BEGIN:DAYLIGHT
TZOFFSETFROM:+0100
TZOFFSETTO:+0200
TZNAME:CEST
DTSTART:20190331T010000
END:DAYLIGHT
BEGIN:STANDARD
TZOFFSETFROM:+0200
TZOFFSETTO:+0100
TZNAME:CET
DTSTART:20191027T010000
END:STANDARD
BEGIN:DAYLIGHT
TZOFFSETFROM:+0100
TZOFFSETTO:+0200
TZNAME:CEST
DTSTART:20200329T010000
END:DAYLIGHT
BEGIN:STANDARD
TZOFFSETFROM:+0200
TZOFFSETTO:+0100
TZNAME:CET
DTSTART:20201025T010000
END:STANDARD
BEGIN:DAYLIGHT
TZOFFSETFROM:+0100
TZOFFSETTO:+0200
TZNAME:CEST
DTSTART:20210328T010000
END:DAYLIGHT
BEGIN:STANDARD
TZOFFSETFROM:+0200
TZOFFSETTO:+0100
TZNAME:CET
DTSTART:20211031T010000
END:STANDARD
BEGIN:DAYLIGHT
TZOFFSETFROM:+0100
TZOFFSETTO:+0200
TZNAME:CEST
DTSTART:20220327T010000
END:DAYLIGHT
BEGIN:STANDARD
TZOFFSETFROM:+0200
TZOFFSETTO:+0100
TZNAME:CET
DTSTART:20221030T010000
END:STANDARD
END:VTIMEZONE
BEGIN:VEVENT
DTSTART;TZID=Europe/Paris:20210925T080000
DTEND;TZID=Europe/Paris:20210926T170000
DTSTAMP:20260419T140102
CREATED:20211111T054455Z
LAST-MODIFIED:20211111T054932Z
UID:3219-1632556800-1632675600@www.cpao14.org
SUMMARY:Sortie kayak : Week-end 25-26 sept 2021 : Cure et Chalaux
DESCRIPTION:Le week-end annuel sur le Chalaux et la Cure dans le Morvan a tenu toutes ses promesses. L’eau vive était au rendez-vous. Chacun a pu se perfectionner dans les différentes techniques de kayak. Nous avons retrouvés nos amis du club d’Armentières\, le temps d’un bivouac\, avec une météo très clémente.
URL:https://www.cpao14.org/event/sortie-kayak-week-end-25-26-sept-2021-cure-et-chalaux/
ATTACH;FMTTYPE=image/jpeg:https://www.cpao14.org/wp-content/uploads/2021/11/Kayak_Cure_Chalaux_25-26sept-3-scaled.jpg
END:VEVENT
BEGIN:VEVENT
DTSTART;TZID=Europe/Paris:20200119T143000
DTEND;TZID=Europe/Paris:20200119T170000
DTSTAMP:20260419T140102
CREATED:20200112T110459Z
LAST-MODIFIED:20200112T110459Z
UID:2903-1579444200-1579453200@www.cpao14.org
SUMMARY:Grimpe en famille en janvier
DESCRIPTION:Dimanche 19 janvier c’est le premier grimpe en famille de l’année. C’est réservé aux adhérents du CPAO et leur famille/amis (7 euros la licence découverte) de 14h30 à 17h.
URL:https://www.cpao14.org/event/grimpe-en-famille-en-janvier/
LOCATION:CPAO\, Allée Jacques Prévert\, Verson\, 14790\, France
END:VEVENT
BEGIN:VEVENT
DTSTART;TZID=Europe/Paris:20191208T143000
DTEND;TZID=Europe/Paris:20191208T170000
DTSTAMP:20260419T140102
CREATED:20191103T160827Z
LAST-MODIFIED:20191103T160827Z
UID:2730-1575815400-1575824400@www.cpao14.org
SUMMARY:Grimpe en famille
DESCRIPTION:
URL:https://www.cpao14.org/event/grimpe-en-famille-11/
END:VEVENT
BEGIN:VEVENT
DTSTART;TZID=Europe/Paris:20191117T143000
DTEND;TZID=Europe/Paris:20191117T163000
DTSTAMP:20260419T140102
CREATED:20191103T160759Z
LAST-MODIFIED:20191113T223246Z
UID:2728-1574001000-1574008200@www.cpao14.org
SUMMARY:Grimpe en famille
DESCRIPTION:
URL:https://www.cpao14.org/event/grimpe-en-famille-10/
END:VEVENT
BEGIN:VEVENT
DTSTART;TZID=Europe/Paris:20191013T080000
DTEND;TZID=Europe/Paris:20191013T170000
DTSTAMP:20260419T140102
CREATED:20191002T191022Z
LAST-MODIFIED:20191103T160700Z
UID:2722-1570953600-1570986000@www.cpao14.org
SUMMARY:GRIMPE en FAMILLE
DESCRIPTION:Voici les dates des trois prochains grimpe en famille: 13 octobre\, 10 novembre et 8 décembre. \nGrimpe en famille c’est une fois par mois le dimanche de 14h30 à 17h pour les licenciés au CPAO passeport jaune minimum et leur famille/amis (licence journée de 7 euros pour les non licenciés). \nAttention\, les dates sont susceptibles d’être modifiées en fonction d’imprévus\, pensez à vérifier.
URL:https://www.cpao14.org/event/grimpe-en-famille-9/
LOCATION:CPAO\, Allée Jacques Prévert\, Verson\, 14790\, France
CATEGORIES:Escalade
END:VEVENT
BEGIN:VEVENT
DTSTART;VALUE=DATE:20190609
DTEND;VALUE=DATE:20190610
DTSTAMP:20260419T140102
CREATED:20190305T194713Z
LAST-MODIFIED:20190305T194713Z
UID:2111-1560038400-1560124799@www.cpao14.org
SUMMARY:Sortie à Mortain - Adultes
DESCRIPTION:Journée escalade à Mortain pour les jeunes et adultes à partir de 16 ans\, tous niveaux. \nCovoiture\, regroupement à 8h à Verson\, départ à 8h30. \nPrévoir pique-nique. \nTarif : 5€ \nNombre de places : 20
URL:https://www.cpao14.org/event/sortie-a-mortain-adultes/
CATEGORIES:Escalade
END:VEVENT
BEGIN:VEVENT
DTSTART;VALUE=DATE:20190608
DTEND;VALUE=DATE:20190609
DTSTAMP:20260419T140102
CREATED:20190114T223445Z
LAST-MODIFIED:20190305T194717Z
UID:2078-1559952000-1560038399@www.cpao14.org
SUMMARY:Sortie à Mortain - Jeunes
DESCRIPTION:Journée escalade à Mortain pour les jeunes de 8 à 16 ans\, tous niveaux. \nCovoiture\, regroupement à 8h à Verson\, départ à 8h30. \nPrévoir pique-nique. \nTarif : 5€ \nNombre de places : 20
URL:https://www.cpao14.org/event/sortie-a-mortain-jeunes-2019/
LOCATION:Mortain
CATEGORIES:Escalade
END:VEVENT
BEGIN:VEVENT
DTSTART;VALUE=DATE:20190518
DTEND;VALUE=DATE:20190519
DTSTAMP:20260419T140102
CREATED:20190114T223813Z
LAST-MODIFIED:20190423T202451Z
UID:2083-1558137600-1558223999@www.cpao14.org
SUMMARY:Sortie multi activités - 18 MAI
DESCRIPTION:Journée multi activités (kayak et escalade) pour les jeunes de 10 à 16 ans\, tous niveaux. \nMINIBUS CLUB ET COVOITURAGE\, horaire à communiquer ultérieurement \nPrévoir pique-nique\, goûter fourni par le club \nTarif : 10€ \nNombre de places : 24
URL:https://www.cpao14.org/event/sortie-multi-activites-2019/
LOCATION:Clécy
CATEGORIES:Escalade,Kayak
END:VEVENT
BEGIN:VEVENT
DTSTART;VALUE=DATE:20190511
DTEND;VALUE=DATE:20190513
DTSTAMP:20260419T140102
CREATED:20190114T224300Z
LAST-MODIFIED:20190305T194141Z
UID:2087-1557532800-1557705599@www.cpao14.org
SUMMARY:Week-end à la Roque - adultes
DESCRIPTION:Sortie sur deux jours à La Roque avec nuit en gîte. \nRéservé aux adultes autonomes (niveau à valider auprès de Yann ou Thomas) \nNombre de places : 12 places (possibilité de plus de place) \nTarif: frais partagé + participation club
URL:https://www.cpao14.org/event/sortie-a-la-roque-pour-les-adultes/
LOCATION:La Roque
CATEGORIES:Escalade
END:VEVENT
BEGIN:VEVENT
DTSTART;TZID=Europe/Paris:20190428T143000
DTEND;TZID=Europe/Paris:20190428T170000
DTSTAMP:20260419T140102
CREATED:20190426T165947Z
LAST-MODIFIED:20190426T170013Z
UID:2125-1556461800-1556470800@www.cpao14.org
SUMMARY:grimpe en famille
DESCRIPTION:C’est dimanche 28 avril de 14h30 à 17h. Réservé aux licenciés et leur famille. Prévoir 7 euros pour vos invités.
URL:https://www.cpao14.org/event/grimpe-en-famille-8/
END:VEVENT
BEGIN:VEVENT
DTSTART;TZID=Europe/Paris:20190423T080000
DTEND;TZID=Europe/Paris:20190423T170000
DTSTAMP:20260419T140102
CREATED:20190423T202700Z
LAST-MODIFIED:20190423T202700Z
UID:2122-1556006400-1556038800@www.cpao14.org
SUMMARY:GRIMPE en FAMILLE
DESCRIPTION:Les beaux jours arrivent. Désormais les derniers grimpe en famille seront annoncés au dernier moment en fonction de la météo. En effet\, s’il fait beau\, autant aller dehors.
URL:https://www.cpao14.org/event/grimpe-en-famille-7/
END:VEVENT
BEGIN:VEVENT
DTSTART;VALUE=DATE:20190330
DTEND;VALUE=DATE:20190401
DTSTAMP:20260419T140102
CREATED:20190114T223615Z
LAST-MODIFIED:20190305T194034Z
UID:2080-1553904000-1554076799@www.cpao14.org
SUMMARY:Week-end de bloc à Fontainebleau - ados
DESCRIPTION:Week-end de bloc à Fontainebleau\, réservé aux jeunes non-débutants de 13 ans (2005) à 17 ans. \nSi des adultes souhaitent profiter de cette sortie\, ils peuvent se joindre aux groupes en gérant leur propre organisation. \nTarif : 60€ \nNombre de places : 12 \nDate limite d’inscription : 18 mars 2019
URL:https://www.cpao14.org/event/bloc-a-fontainebleau-pour-les-ados/
LOCATION:Fontainebleau
CATEGORIES:Escalade
END:VEVENT
BEGIN:VEVENT
DTSTART;TZID=Europe/Paris:20181209T143000
DTEND;TZID=Europe/Paris:20181209T170000
DTSTAMP:20260419T140102
CREATED:20180923T210318Z
LAST-MODIFIED:20180923T210318Z
UID:1697-1544365800-1544374800@www.cpao14.org
SUMMARY:grimpe en famille
DESCRIPTION:
URL:https://www.cpao14.org/event/grimpe-en-famille-6/
END:VEVENT
BEGIN:VEVENT
DTSTART;TZID=Europe/Paris:20181111T143000
DTEND;TZID=Europe/Paris:20181111T170000
DTSTAMP:20260419T140102
CREATED:20180923T210232Z
LAST-MODIFIED:20180923T210232Z
UID:1695-1541946600-1541955600@www.cpao14.org
SUMMARY:grimpe en famille
DESCRIPTION:
URL:https://www.cpao14.org/event/grimpe-en-famille-5/
END:VEVENT
BEGIN:VEVENT
DTSTART;TZID=Europe/Paris:20181019T080000
DTEND;TZID=Europe/Paris:20181019T170000
DTSTAMP:20260419T140102
CREATED:20181019T203144Z
LAST-MODIFIED:20181019T203144Z
UID:2013-1539936000-1539968400@www.cpao14.org
SUMMARY:Assemblée Générale du CPAO14
DESCRIPTION:L’assemblée générale de l’association aura lieu le mardi 23 octobre à 20h00 à la salle des anciens combattants de Verson. Venez nombreux !convocation-AG_2018 (1)
URL:https://www.cpao14.org/event/assemblee-generale-du-cpao14/
END:VEVENT
BEGIN:VEVENT
DTSTART;TZID=Europe/Paris:20181014T143000
DTEND;TZID=Europe/Paris:20181014T170000
DTSTAMP:20260419T140102
CREATED:20180923T210158Z
LAST-MODIFIED:20180923T210158Z
UID:1693-1539527400-1539536400@www.cpao14.org
SUMMARY:grimpe en famille
DESCRIPTION:
URL:https://www.cpao14.org/event/grimpe-en-famille-4/
END:VEVENT
BEGIN:VEVENT
DTSTART;TZID=Europe/Paris:20180930T140000
DTEND;TZID=Europe/Paris:20180930T180000
DTSTAMP:20260419T140102
CREATED:20180922T153717Z
LAST-MODIFIED:20180923T205415Z
UID:1507-1538316000-1538330400@www.cpao14.org
SUMMARY:Virades de l'Espoir
DESCRIPTION:Comme chaque année\, le CPAO accompagne les virades de l’espoir en tenant un stand escalade à la Colline aux Oiseaux. Pour cela nous avons besoin de bénévoles pour assurer les jeunes grimpeurs.
URL:https://www.cpao14.org/event/virades-de-lespoir/
LOCATION:Colline aux oiseaux
END:VEVENT
BEGIN:VEVENT
DTSTART;VALUE=DATE:20180917
DTEND;VALUE=DATE:20180922
DTSTAMP:20260419T140102
CREATED:20180915T150125Z
LAST-MODIFIED:20180915T150125Z
UID:1500-1537142400-1537574399@www.cpao14.org
SUMMARY:Semaine de rentrée
DESCRIPTION:
URL:https://www.cpao14.org/event/semaine-de-rentree/
LOCATION:CPAO\, Allée Jacques Prévert\, Verson\, 14790\, France
END:VEVENT
BEGIN:VEVENT
DTSTART;TZID=Europe/Paris:20180907T190000
DTEND;TZID=Europe/Paris:20180907T200000
DTSTAMP:20260419T140102
CREATED:20180817T072238Z
LAST-MODIFIED:20180817T072238Z
UID:1480-1536346800-1536350400@www.cpao14.org
SUMMARY:Retour dossier d'inscription - Escalade
DESCRIPTION:Créneau dédié aux sessions d’inscriptions escalade et remise des dossier en main propre.
URL:https://www.cpao14.org/event/retour-dossier-dinscription-escalade/
LOCATION:CPAO\, Allée Jacques Prévert\, Verson\, 14790\, France
END:VEVENT
BEGIN:VEVENT
DTSTART;TZID=Europe/Paris:20180905T190000
DTEND;TZID=Europe/Paris:20180905T200000
DTSTAMP:20260419T140102
CREATED:20180817T072150Z
LAST-MODIFIED:20180817T072315Z
UID:1478-1536174000-1536177600@www.cpao14.org
SUMMARY:Retour dossier d'inscription - Escalade
DESCRIPTION:Créneau dédié aux sessions d’inscriptions escalade et remise des dossier en main propre.
URL:https://www.cpao14.org/event/retour-dossier-dinscription-2/
LOCATION:CPAO\, Allée Jacques Prévert\, Verson\, 14790\, France
END:VEVENT
BEGIN:VEVENT
DTSTART;TZID=Europe/Paris:20180903T190000
DTEND;TZID=Europe/Paris:20180903T200000
DTSTAMP:20260419T140102
CREATED:20180817T072059Z
LAST-MODIFIED:20180817T072328Z
UID:1476-1536001200-1536004800@www.cpao14.org
SUMMARY:Retour dossier d'inscription - Escalade
DESCRIPTION:Créneau dédié aux sessions d’inscriptions escalade et remise des dossier en main propre.
URL:https://www.cpao14.org/event/retour-dossier-dinscription/
LOCATION:CPAO\, Allée Jacques Prévert\, Verson\, 14790\, France
END:VEVENT
BEGIN:VEVENT
DTSTART;VALUE=DATE:20180623
DTEND;VALUE=DATE:20180625
DTSTAMP:20260419T140102
CREATED:20180206T191907Z
LAST-MODIFIED:20180206T191907Z
UID:683-1529712000-1529884799@www.cpao14.org
SUMMARY:Sortie La Roque - Adultes autonomes
DESCRIPTION:
URL:https://www.cpao14.org/event/sortie-roque-adultes-autonomes/
LOCATION:La Roque
CATEGORIES:Escalade
END:VEVENT
BEGIN:VEVENT
DTSTART;TZID=Europe/Paris:20180622T193000
DTEND;TZID=Europe/Paris:20180622T233000
DTSTAMP:20260419T140102
CREATED:20180206T191813Z
LAST-MODIFIED:20180207T114147Z
UID:680-1529695800-1529710200@www.cpao14.org
SUMMARY:Barbecue de fin d'année
DESCRIPTION:
URL:https://www.cpao14.org/event/barbecue-de-fin-dannee/
LOCATION:CPAO\, Allée Jacques Prévert\, Verson\, 14790\, France
CATEGORIES:Club
END:VEVENT
BEGIN:VEVENT
DTSTART;TZID=Europe/Paris:20180609T140000
DTEND;TZID=Europe/Paris:20180609T180000
DTSTAMP:20260419T140102
CREATED:20180206T192321Z
LAST-MODIFIED:20180531T203816Z
UID:694-1528552800-1528567200@www.cpao14.org
SUMMARY:Kayak en famille
DESCRIPTION:Cette année\, la journée de kayak en famille se déroulera sur le parcours du Pont de Brie au Val de Maizet. Vous avez jusqu’au lundi 4 juin pour vous inscrit par mail à l’adresse suivante: kayak@cpao14.org
URL:https://www.cpao14.org/event/kayak-en-famille/
CATEGORIES:Kayak
END:VEVENT
BEGIN:VEVENT
DTSTART;VALUE=DATE:20180602
DTEND;VALUE=DATE:20180604
DTSTAMP:20260419T140102
CREATED:20180206T192413Z
LAST-MODIFIED:20180206T192413Z
UID:696-1527897600-1528070399@www.cpao14.org
SUMMARY:Sortie bloc à Fontainebleau - Jeunes 13 à 16 ans
DESCRIPTION:
URL:https://www.cpao14.org/event/sortie-bloc-a-fontainebleau-jeunes-13-a-16-ans/
CATEGORIES:Escalade
END:VEVENT
BEGIN:VEVENT
DTSTART;VALUE=DATE:20180526
DTEND;VALUE=DATE:20180527
DTSTAMP:20260419T140102
CREATED:20180129T122906Z
LAST-MODIFIED:20180207T114120Z
UID:596-1527292800-1527379199@www.cpao14.org
SUMMARY:Coupe du Calvados 2018 - Ados et jeunes - Vitesse
DESCRIPTION:
URL:https://www.cpao14.org/event/coupe-calvados-2018-vitesse/
LOCATION:Les Montes en l’Air\, Rue André Gide\, Giberville\, 14730\, France
CATEGORIES:Escalade
END:VEVENT
BEGIN:VEVENT
DTSTART;VALUE=DATE:20180519
DTEND;VALUE=DATE:20180520
DTSTAMP:20260419T140102
CREATED:20180206T192231Z
LAST-MODIFIED:20180504T155946Z
UID:691-1526688000-1526774399@www.cpao14.org
SUMMARY:Sortie multi-activités à Clécy
DESCRIPTION:
URL:https://www.cpao14.org/event/sortie-multi-activites-a-clecy/
LOCATION:Clécy
CATEGORIES:Club,Escalade,Kayak
END:VEVENT
BEGIN:VEVENT
DTSTART;VALUE=DATE:20180422
DTEND;VALUE=DATE:20180423
DTSTAMP:20260419T140102
CREATED:20180206T192006Z
LAST-MODIFIED:20180323T103203Z
UID:686-1524355200-1524441599@www.cpao14.org
SUMMARY:Sortie Mortain - Adultes
DESCRIPTION:
URL:https://www.cpao14.org/event/sortie-mortain-adultes/
LOCATION:Mortain
CATEGORIES:Escalade
END:VEVENT
BEGIN:VEVENT
DTSTART;VALUE=DATE:20180421
DTEND;VALUE=DATE:20180422
DTSTAMP:20260419T140102
CREATED:20180206T192048Z
LAST-MODIFIED:20180323T103214Z
UID:689-1524268800-1524355199@www.cpao14.org
SUMMARY:Sortie Mortain - Enfants > 8 ans
DESCRIPTION:
URL:https://www.cpao14.org/event/sortie-mortain-enfants-8-ans/
LOCATION:Mortain
CATEGORIES:Escalade
END:VEVENT
BEGIN:VEVENT
DTSTART;VALUE=DATE:20180415
DTEND;VALUE=DATE:20180416
DTSTAMP:20260419T140102
CREATED:20180128T091733Z
LAST-MODIFIED:20180207T114158Z
UID:392-1523750400-1523836799@www.cpao14.org
SUMMARY:Championnat départemental d'escalade
DESCRIPTION:
URL:https://www.cpao14.org/event/championnat-departemental-descalade/
LOCATION:CPAO\, Allée Jacques Prévert\, Verson\, 14790\, France
CATEGORIES:Escalade
END:VEVENT
END:VCALENDAR