BEGIN:VCALENDAR
VERSION:2.0
PRODID:-//CPAO14 - ECPv6.15.20//NONSGML v1.0//EN
CALSCALE:GREGORIAN
METHOD:PUBLISH
X-WR-CALNAME:CPAO14
X-ORIGINAL-URL:https://www.cpao14.org
X-WR-CALDESC:Évènements pour CPAO14
REFRESH-INTERVAL;VALUE=DURATION:PT1H
X-Robots-Tag:noindex
X-PUBLISHED-TTL:PT1H
BEGIN:VTIMEZONE
TZID:Europe/Paris
BEGIN:DAYLIGHT
TZOFFSETFROM:+0100
TZOFFSETTO:+0200
TZNAME:CEST
DTSTART:20170326T010000
END:DAYLIGHT
BEGIN:STANDARD
TZOFFSETFROM:+0200
TZOFFSETTO:+0100
TZNAME:CET
DTSTART:20171029T010000
END:STANDARD
BEGIN:DAYLIGHT
TZOFFSETFROM:+0100
TZOFFSETTO:+0200
TZNAME:CEST
DTSTART:20180325T010000
END:DAYLIGHT
BEGIN:STANDARD
TZOFFSETFROM:+0200
TZOFFSETTO:+0100
TZNAME:CET
DTSTART:20181028T010000
END:STANDARD
BEGIN:DAYLIGHT
TZOFFSETFROM:+0100
TZOFFSETTO:+0200
TZNAME:CEST
DTSTART:20190331T010000
END:DAYLIGHT
BEGIN:STANDARD
TZOFFSETFROM:+0200
TZOFFSETTO:+0100
TZNAME:CET
DTSTART:20191027T010000
END:STANDARD
END:VTIMEZONE
BEGIN:VEVENT
DTSTART;TZID=Europe/Paris:20180211T143000
DTEND;TZID=Europe/Paris:20180211T173000
DTSTAMP:20260420T001019
CREATED:20180206T191716Z
LAST-MODIFIED:20180207T114216Z
UID:677-1518359400-1518370200@www.cpao14.org
SUMMARY:Grimpe en famille
DESCRIPTION:
URL:https://www.cpao14.org/event/grimpe-en-famille-2/
LOCATION:CPAO\, Allée Jacques Prévert\, Verson\, 14790\, France
CATEGORIES:Escalade
END:VEVENT
BEGIN:VEVENT
DTSTART;VALUE=DATE:20180217
DTEND;VALUE=DATE:20180218
DTSTAMP:20260420T001019
CREATED:20180129T122556Z
LAST-MODIFIED:20180207T114003Z
UID:588-1518825600-1518911999@www.cpao14.org
SUMMARY:Coupe du Calvados 2018 - Ados et jeunes - Difficulté
DESCRIPTION:Renseignements\, inscriptions: http://www.ffme.fr/competition/fiche/5167.html \n 
URL:https://www.cpao14.org/event/coupe-calvados-2018-difficulte/
LOCATION:La Grimp’ante Falaisienne\, Bd de la Libération\, Falaise\, 14700\, France
CATEGORIES:Escalade
END:VEVENT
BEGIN:VEVENT
DTSTART;VALUE=DATE:20180218
DTEND;VALUE=DATE:20180219
DTSTAMP:20260420T001019
CREATED:20180129T123039Z
LAST-MODIFIED:20180130T203500Z
UID:600-1518912000-1518998399@www.cpao14.org
SUMMARY:OPEN des ouistitis
DESCRIPTION:MOUSTIQUES / MICROBES / POUSSINS / BENJAMINS
URL:https://www.cpao14.org/event/open-des-ouistitis/
LOCATION:Les Montes en l’Air\, Rue André Gide\, Giberville\, 14730\, France
CATEGORIES:Escalade
END:VEVENT
END:VCALENDAR